BEGIN:VCALENDAR
VERSION:2.0
PRODID:-//Movimento di Cooperazione Educativa - ECPv6.15.20//NONSGML v1.0//EN
CALSCALE:GREGORIAN
METHOD:PUBLISH
X-WR-CALNAME:Movimento di Cooperazione Educativa
X-ORIGINAL-URL:https://www.mce-fimem.it
X-WR-CALDESC:Eventi per Movimento di Cooperazione Educativa
REFRESH-INTERVAL;VALUE=DURATION:PT1H
X-Robots-Tag:noindex
X-PUBLISHED-TTL:PT1H
BEGIN:VTIMEZONE
TZID:Europe/Rome
BEGIN:DAYLIGHT
TZOFFSETFROM:+0100
TZOFFSETTO:+0200
TZNAME:CEST
DTSTART:20210328T010000
END:DAYLIGHT
BEGIN:STANDARD
TZOFFSETFROM:+0200
TZOFFSETTO:+0100
TZNAME:CET
DTSTART:20211031T010000
END:STANDARD
BEGIN:DAYLIGHT
TZOFFSETFROM:+0100
TZOFFSETTO:+0200
TZNAME:CEST
DTSTART:20220327T010000
END:DAYLIGHT
BEGIN:STANDARD
TZOFFSETFROM:+0200
TZOFFSETTO:+0100
TZNAME:CET
DTSTART:20221030T010000
END:STANDARD
BEGIN:DAYLIGHT
TZOFFSETFROM:+0100
TZOFFSETTO:+0200
TZNAME:CEST
DTSTART:20230326T010000
END:DAYLIGHT
BEGIN:STANDARD
TZOFFSETFROM:+0200
TZOFFSETTO:+0100
TZNAME:CET
DTSTART:20231029T010000
END:STANDARD
END:VTIMEZONE
BEGIN:VEVENT
DTSTART;TZID=Europe/Rome:20221202T080000
DTEND;TZID=Europe/Rome:20221202T130000
DTSTAMP:20260424T082056
CREATED:20221201T124655Z
LAST-MODIFIED:20221201T124655Z
UID:18109-1669968000-1669986000@www.mce-fimem.it
SUMMARY:Prevenire la dispersione scolastica\, contrastare le disuguaglianze
DESCRIPTION:A Treviso\, il 2 dicembre dalle ore 8.00 alle ore 13.00 il Forum Veneto (tra cui MCE Venezia-Mestre) aspettano dcenti\, dirigenti scolastici\, enti locali\, educatori del terzo settore e cittadini all’incontro nella sede dell’Istituto Tecnico Mazzotti di via Tronconi. \nA seguire locandina e programma.
URL:https://www.mce-fimem.it/evento/prevenire-la-dispersione-scolastica-contrastare-le-disuguaglianze/
LOCATION:Istituto Tecnico Mazzotti\, tronconi\, 1\, Treviso\, Italia
CATEGORIES:Evento esterno,Evento MCE
END:VEVENT
END:VCALENDAR